BEGIN:VCALENDAR
VERSION:2.0
PRODID:icalendar-ruby
CALSCALE:GREGORIAN
METHOD:PUBLISH
BEGIN:VEVENT
DTSTAMP:20260424T203916Z
UID:46-255821@pentecostalsof200.tithelysetup5.com
DTSTART:20260926T160000Z
DTEND:20260926T190000Z
CLASS:PUBLIC
CREATED:20260204T170217
DESCRIPTION:This is our monthly opportunity to do outreach to the local Lod
 i community.
LAST-MODIFIED:20260204T170217
LOCATION:Pentecostals of Lodi
SUMMARY:POL Outreach
URL;VALUE=URI:https://polodi.org/events/pol-outreach/2026-09-26
ATTACH;FILENAME=Outreach.jpg;FMTTYPE=image/jpeg:https://dq5pwpg1q8ru0.cloud
 front.net/2026/02/05/01/02/17/05f4b274-2354-4ec6-bab6-8a9f124c0cfd/Outreac
 h.jpg
END:VEVENT
END:VCALENDAR
